BEGIN:VCALENDAR
VERSION:2.0
PRODID:-//CDI - ECPv6.15.20//NONSGML v1.0//EN
CALSCALE:GREGORIAN
METHOD:PUBLISH
X-ORIGINAL-URL:https://circulardrives.org
X-WR-CALDESC:Events for CDI
REFRESH-INTERVAL;VALUE=DURATION:PT1H
X-Robots-Tag:noindex
X-PUBLISHED-TTL:PT1H
BEGIN:VTIMEZONE
TZID:America/Denver
BEGIN:DAYLIGHT
TZOFFSETFROM:-0700
TZOFFSETTO:-0600
TZNAME:MDT
DTSTART:20250309T090000
END:DAYLIGHT
BEGIN:STANDARD
TZOFFSETFROM:-0600
TZOFFSETTO:-0700
TZNAME:MST
DTSTART:20251102T080000
END:STANDARD
BEGIN:DAYLIGHT
TZOFFSETFROM:-0700
TZOFFSETTO:-0600
TZNAME:MDT
DTSTART:20260308T090000
END:DAYLIGHT
BEGIN:STANDARD
TZOFFSETFROM:-0600
TZOFFSETTO:-0700
TZNAME:MST
DTSTART:20261101T080000
END:STANDARD
BEGIN:DAYLIGHT
TZOFFSETFROM:-0700
TZOFFSETTO:-0600
TZNAME:MDT
DTSTART:20270314T090000
END:DAYLIGHT
BEGIN:STANDARD
TZOFFSETFROM:-0600
TZOFFSETTO:-0700
TZNAME:MST
DTSTART:20271107T080000
END:STANDARD
END:VTIMEZONE
BEGIN:VTIMEZONE
TZID:UTC
BEGIN:STANDARD
TZOFFSETFROM:+0000
TZOFFSETTO:+0000
TZNAME:UTC
DTSTART:20250101T000000
END:STANDARD
END:VTIMEZONE
BEGIN:VEVENT
DTSTART;TZID=America/Denver:20261007T080000
DTEND;TZID=America/Denver:20261007T090000
DTSTAMP:20260425T190431
CREATED:20251220T194011Z
LAST-MODIFIED:20251220T194011Z
UID:2849-1791360000-1791363600@circulardrives.org
SUMMARY:CDI Technical Workgroup Meeting
DESCRIPTION:Available to Steward and Regular member representatives.  Please email alice at circulardrives dot org for invite
URL:https://circulardrives.org/event/cdi-technical-workgroup-meeting-20/
END:VEVENT
BEGIN:VEVENT
DTSTART;VALUE=DATE:20261012
DTEND;VALUE=DATE:20261016
DTSTAMP:20260425T190431
CREATED:20251220T192438Z
LAST-MODIFIED:20251220T192438Z
UID:2826-1791763200-1792108799@circulardrives.org
SUMMARY:OCP Summit 2026
DESCRIPTION:
URL:https://circulardrives.org/event/ocp-summit-2026/
ATTACH;FMTTYPE=image/png:https://circulardrives.org/wp-content/uploads/2025/12/Screenshot-2025-12-20-at-2.23.19-PM.png
END:VEVENT
BEGIN:VEVENT
DTSTART;TZID=America/Denver:20261021T080000
DTEND;TZID=America/Denver:20261021T090000
DTSTAMP:20260425T190431
CREATED:20251220T194037Z
LAST-MODIFIED:20251220T194037Z
UID:2850-1792569600-1792573200@circulardrives.org
SUMMARY:CDI Technical Workgroup Meeting
DESCRIPTION:Available to Steward and Regular member representatives.  Please email alice at circulardrives dot org for invite
URL:https://circulardrives.org/event/cdi-technical-workgroup-meeting-21/
END:VEVENT
BEGIN:VEVENT
DTSTART;TZID=America/Denver:20261022T090000
DTEND;TZID=America/Denver:20261022T100000
DTSTAMP:20260425T190431
CREATED:20251220T191537Z
LAST-MODIFIED:20251220T191537Z
UID:2821-1792659600-1792663200@circulardrives.org
SUMMARY:CDI Regular Workgroup Meeting
DESCRIPTION:Available to Steward and Regular member representatives.  Please email alice at circulardrives dot org for invite
URL:https://circulardrives.org/event/cdi-regular-workgroup-meeting-4/
END:VEVENT
END:VCALENDAR