BEGIN:VCALENDAR
VERSION:2.0
PRODID:-//CDI - ECPv6.15.20//NONSGML v1.0//EN
CALSCALE:GREGORIAN
METHOD:PUBLISH
X-ORIGINAL-URL:https://circulardrives.org
X-WR-CALDESC:Events for CDI
REFRESH-INTERVAL;VALUE=DURATION:PT1H
X-Robots-Tag:noindex
X-PUBLISHED-TTL:PT1H
BEGIN:VTIMEZONE
TZID:UTC
BEGIN:STANDARD
TZOFFSETFROM:+0000
TZOFFSETTO:+0000
TZNAME:UTC
DTSTART:20230101T000000
END:STANDARD
END:VTIMEZONE
BEGIN:VEVENT
DTSTART;VALUE=DATE:20251014
DTEND;VALUE=DATE:20251017
DTSTAMP:20260422T172806
CREATED:20250203T190439Z
LAST-MODIFIED:20250203T191422Z
UID:2722-1760400000-1760659199@circulardrives.org
SUMMARY:2025 OCP Global Summit
DESCRIPTION:The OCP Summit is the premier event uniting the most forward-thinking minds in open IT Ecosystem development. The Summit presents a unique platform for our Community from around the globe to share their insights\, foster partnerships and showcase cutting-edge advancements in open hardware and software.
URL:https://circulardrives.org/event/2025-ocp-global-summit/
LOCATION:San Jose Convention Center\, 150 W San Carlos Street\, San Jose\, CA\, 95113\, United States
CATEGORIES:Conference
ATTACH;FMTTYPE=image/png:https://circulardrives.org/wp-content/uploads/2024/04/download.png
END:VEVENT
BEGIN:VEVENT
DTSTART;VALUE=DATE:20250908
DTEND;VALUE=DATE:20250912
DTSTAMP:20260422T172806
CREATED:20250203T190207Z
LAST-MODIFIED:20250710T182954Z
UID:2720-1757289600-1757635199@circulardrives.org
SUMMARY:eSummit by SERI
DESCRIPTION:The Electronics Sustainability Summit (eSummit) brings together the brightest minds and the most forward-thinking companies to make every facet of the electronics industry more sustainable. No matter where you sit on the electronics lifecycle\, the eSummit offers an unparalleled platform for learning\, sharing\, and networking. \n  \nCDI Members have a discount to this conference. If you would like the discount code\, please email alice at circulardrives dot org.
URL:https://circulardrives.org/event/esummit-by-seri/
LOCATION:Renaissance Minneapolis Hotel\, The Depot\, 225 3rd Avenue South\, Minneapolis\, MN\, United States
CATEGORIES:Conference
ATTACH;FMTTYPE=image/png:https://circulardrives.org/wp-content/uploads/2025/02/eSummit-primary_color-on-light.png
END:VEVENT
BEGIN:VEVENT
DTSTART;VALUE=DATE:20250805
DTEND;VALUE=DATE:20250808
DTSTAMP:20260422T172806
CREATED:20250203T183709Z
LAST-MODIFIED:20250203T191508Z
UID:2702-1754352000-1754611199@circulardrives.org
SUMMARY:FMS: the Future of Memory and Storage
DESCRIPTION:FMS: the Future of Memory and Storage has expanded the scope of Flash Memory Summit to encompass all tiers of Memory and Storage. As a leading global independent conference and exhibition\, FMS is now in its 19th year\, offering enhanced support to the industry. Serving as a centralized hub for professional growth\, industry connections\, and customer engagement\, FMS provides a comprehensive platform for all stakeholders in the field.
URL:https://circulardrives.org/event/fms-the-future-of-memory-and-storage/
LOCATION:Santa Clara Convention Center\, 5001 Great America Pkwy\, Santa Clara\, CA\, 95054\, United States
CATEGORIES:Conference
ATTACH;FMTTYPE=image/png:https://circulardrives.org/wp-content/uploads/2025/02/blue-words-right.png
END:VEVENT
BEGIN:VEVENT
DTSTART;TZID=UTC:20250429T160000
DTEND;TZID=UTC:20250429T170000
DTSTAMP:20260422T172806
CREATED:20250401T151652Z
LAST-MODIFIED:20250401T151652Z
UID:2770-1745942400-1745946000@circulardrives.org
SUMMARY:Circularity 25: Accelerating the Circular Economy
DESCRIPTION:Join CDI Steward member Seagate and others at the breakout session: Sustainable Datasphere: Enabling Close Loop Circularity for Storage Devices in Bluebird 3F\, at the Colorado Convention Center. \nExamine with other attendees the question: How do we enable a sustainable datasphere ? \nWith the explosion of Artificial Intelligence and the exponential growth in data centers\, circularity will play an integral role in how end of use storage devices are sustainably managed. Learn how industry partners are collaborating in developing circular solutions in addressing this challenge. Subject matter experts will share developments in data sanitization standards\, operationalizing circular pathways\, quantifying environmental benefits and end user experience. \n 
URL:https://circulardrives.org/event/circularity-25-accelerating-the-circular-economy/
LOCATION:Colorado Convention Center\, 700 14th St\, Denver\, CO\, 80202\, United States
CATEGORIES:Conference
END:VEVENT
BEGIN:VEVENT
DTSTART;VALUE=DATE:20250429
DTEND;VALUE=DATE:20250501
DTSTAMP:20260422T172806
CREATED:20250203T184442Z
LAST-MODIFIED:20250203T191520Z
UID:2709-1745884800-1746057599@circulardrives.org
SUMMARY:2025 OCP EMEA Summit
DESCRIPTION:The OCP EMEA Summit serves as a platform where global technical leaders come together to tackle the issues related to data center sustainability\, energy efficiency and heat reuse in the region. The focus is on exploring how innovations from hyperscale data center operators can contribute to solving these challenges. The OCP EMEA Summit also highlights deployments of specific OCP-recognized data center equipment in the EMEA region. \nThe key areas of emphasis for 2025 will be Data Center Sustainability\, AI\, Security & Data Protection\, Power & Cooling and Deployments. Additionally\, invited talks will dive into topics such as quantum technology\, optics and telecommunications. Participants will move forward the OCP Community’s role in developing and implementing a sustainable and scalable computational infrastructure for the future in Europe.
URL:https://circulardrives.org/event/2025-ocp-emea-summit/
LOCATION:The Convention Center Dublin\, Dublin\, Ireland
CATEGORIES:Conference
ATTACH;FMTTYPE=image/png:https://circulardrives.org/wp-content/uploads/2024/04/download.png
END:VEVENT
BEGIN:VEVENT
DTSTART;VALUE=DATE:20241022
DTEND;VALUE=DATE:20241025
DTSTAMP:20260422T172806
CREATED:20240516T144409Z
LAST-MODIFIED:20250203T192102Z
UID:2601-1729555200-1729814399@circulardrives.org
SUMMARY:Electronics Sustainability Summit
DESCRIPTION:Formerly know as the E-Reuse Conference\, this event is now the SERI Electronics Sustainability Summit. \nIn an era when the sustainability of our planet hinges on innovation and collaboration\, the Electronics Sustainability Summit (eSummit) stands as a nexus for change. Electronics are ubiquitous in all of our lives\, both at home and at work\, but we need to make this relationship sustainable. To us\, this means being able to enjoy all the benefits that electronics deliver\, without sacrificing the present or future. \nThe eSummit brings together the brightest minds and the most forward-thinking companies to accomplish this ambitious goal. No matter where you sit on the electronics lifecycle – whether a business that uses electronics\, a manufacturer\, product designer\, retailer\, repairer or refurbisher\, policy maker\, academic\, or recycler – the eSummit offers an unparalleled platform for learning\, sharing\, and networking. That’s because everyone has a part to play in making electronics sustainable\, and the power of collaboration is exponential.
URL:https://circulardrives.org/event/electronics-sustainability-summit-2/
LOCATION:Hyatt Regency Austin\, 208 Barton Springs Rd\, Austin\, TX\, 78704\, United States
CATEGORIES:Conference
ATTACH;FMTTYPE=image/png:https://circulardrives.org/wp-content/uploads/2024/05/ElectronicsSummit.png
END:VEVENT
BEGIN:VEVENT
DTSTART;VALUE=DATE:20240806
DTEND;VALUE=DATE:20240809
DTSTAMP:20260422T172806
CREATED:20240417T204726Z
LAST-MODIFIED:20240417T204726Z
UID:2596-1722902400-1723161599@circulardrives.org
SUMMARY:FMS 2024: Future of Memory & Storage
DESCRIPTION:FMS: the Future of Memory and Storage is an all-inclusive international memory and storage showcase. It is the event for the memory and storage industry. It is the one-stop place to catch up on the latest technologies\, see the hottest products\, and learn about what’s happening and where the latest trends are heading. FMS is now the largest memory and storage industry show with the most high-level keynoters from leading companies\, the largest exhibits\, and the most sessions covering everything from applications and architectures through enterprise storage\, controllers\, and new technologies.
URL:https://circulardrives.org/event/fms-2024-future-of-memory-storage-2/
LOCATION:CO
CATEGORIES:Conference
ATTACH;FMTTYPE=image/png:https://circulardrives.org/wp-content/uploads/2024/04/Screenshot-2024-04-17-at-4.49.12 PM.png
END:VEVENT
BEGIN:VEVENT
DTSTART;VALUE=DATE:20240425
DTEND;VALUE=DATE:20240427
DTSTAMP:20260422T172806
CREATED:20240416T181916Z
LAST-MODIFIED:20240416T182117Z
UID:2454-1714003200-1714175999@circulardrives.org
SUMMARY:2024 OCP Regional Summit
DESCRIPTION:https://www.opencompute.org/summit/regional-summit \nIn Europe\, the increasing demand for data center capacity poses significant challenges due to the continuous growth in data volume and the inclusion of high-performance computing workloads\, such as generative AI applications. This surge in demand has repercussions on energy consumption\, water usage and the need for better construction materials. Addressing these challenges requires a systemic change to ensure sustainability and efficiency. \nThe OCP Regional Summit in Europe serves as a platform where technical and business leaders from EMEA come together to tackle crucial issues related to data center sustainability\, energy efficiency\, and heat reuse. The focus is on exploring how innovations from hyperscale data center operators can contribute to solving these challenges. The Summit also highlights deployments of specific OCP-recognized data center equipment in the EMEA region. \nThe key areas of emphasis for 2024 include Data Center Sustainability\, AI\, Security & Data Protection\, Power & Cooling\, and Deployments. Additionally\, invited talks will delve into topics such as quantum technology\, optics and telecommunications. Participants will gain insights into how innovations within the OCP Community are pivotal in developing and implementing a sustainable and scalable computational infrastructure for the future. \nThe 2024 OCP Regional Summit will be held in beautiful Lisbon\, Portugal. Lisbon is an accessible and desirable city\, perfect to host our European-focused Summit with a centrally-located Congress Centre surrounded by picturesque views. Registration is now open. Be sure to join us 24-25 April\, 2024.
URL:https://circulardrives.org/event/2024-ocp-regional-summit/
LOCATION:CO
CATEGORIES:Conference
ATTACH;FMTTYPE=image/png:https://circulardrives.org/wp-content/uploads/2024/04/Screenshot-2024-04-16-111657.png
END:VEVENT
END:VCALENDAR