BEGIN:VCALENDAR
VERSION:2.0
PRODID:-//CDI - ECPv6.15.20//NONSGML v1.0//EN
CALSCALE:GREGORIAN
METHOD:PUBLISH
X-ORIGINAL-URL:https://circulardrives.org
X-WR-CALDESC:Events for CDI
REFRESH-INTERVAL;VALUE=DURATION:PT1H
X-Robots-Tag:noindex
X-PUBLISHED-TTL:PT1H
BEGIN:VTIMEZONE
TZID:UTC
BEGIN:STANDARD
TZOFFSETFROM:+0000
TZOFFSETTO:+0000
TZNAME:UTC
DTSTART:20250101T000000
END:STANDARD
END:VTIMEZONE
BEGIN:VEVENT
DTSTART;VALUE=DATE:20261116
DTEND;VALUE=DATE:20261121
DTSTAMP:20260425T215503
CREATED:20251220T192036Z
LAST-MODIFIED:20251220T192214Z
UID:2823-1794787200-1795219199@circulardrives.org
SUMMARY:SC26
DESCRIPTION:
URL:https://circulardrives.org/event/sc26/
ATTACH;FMTTYPE=image/png:https://circulardrives.org/wp-content/uploads/2025/12/sc26_hor_color_black.png
END:VEVENT
END:VCALENDAR